BEGIN:VCALENDAR
VERSION:2.0
PRODID:-//ChamberMaster//Event Calendar 2.0//EN
METHOD:PUBLISH
X-PUBLISHED-TTL:P3D
REFRESH-INTERVAL:P3D
CALSCALE:GREGORIAN
BEGIN:VEVENT
DTSTART:20060127T220000Z
DTEND:20060128T010000Z
X-MICROSOFT-CDO-ALLDAYEVENT:FALSE
SUMMARY:Free Food Fridays!
DESCRIPTION:My Favorite Cigar   36 East Main Street.  Now the 2nd & 4th Fridays every month!  Drop by after that long week of work and relax with us!
X-ALT-DESC;FMTTYPE=text/html:My Favorite Cigar & Bar\; 36 East Main Street.  Now the 2nd & 4th Fridays every month!  Drop by after that long week of work and relax with us!
LOCATION:36 East Main Street\, Brownsburg\, IN 46112 My Favorite Cigar 36 East Main Street. Now the 2nd & 4th Fridays every month! Drop by after that long week of work and relax with us!
UID:e.2778.85
SEQUENCE:3
DTSTAMP:20260424T221853Z
URL:https://www.brownsburg.com/events/details/free-food-fridays-01-27-2006-85
END:VEVENT

END:VCALENDAR
