BEGIN:VCALENDAR
VERSION:2.0
PRODID:-//ChamberMaster//Event Calendar 2.0//EN
METHOD:PUBLISH
X-PUBLISHED-TTL:P3D
REFRESH-INTERVAL:P3D
CALSCALE:GREGORIAN
BEGIN:VEVENT
DTSTART:20061022T160000Z
DTEND:20061022T200000Z
X-MICROSOFT-CDO-ALLDAYEVENT:FALSE
SUMMARY:Free Wedding Expo at the Crown Room
DESCRIPTION:
X-ALT-DESC;FMTTYPE=text/html:
LOCATION:900 East 56th Street\, Ste. 200\, Brownsburg\, IN 46112 On the northside of East 56th and Northfield Blvd. on the second floor of the Strong Bldg. Looking for excellent wedding ideas or a place to have a reception? Join us at the Crown Room for free wedding ideas coming from several different businesses. For more information call 317-858-2228.
UID:e.2778.301
SEQUENCE:3
DTSTAMP:20260424T102959Z
URL:https://www.brownsburg.com/events/details/free-wedding-expo-at-the-crown-room-10-22-2006-301
END:VEVENT

END:VCALENDAR
