BEGIN:VCALENDAR
VERSION:2.0
PRODID:-//ChamberMaster//Event Calendar 2.0//EN
METHOD:PUBLISH
X-PUBLISHED-TTL:P3D
REFRESH-INTERVAL:P3D
CALSCALE:GREGORIAN
BEGIN:VEVENT
DTSTART:20060608T220000Z
DTEND:20060608T233000Z
X-MICROSOFT-CDO-ALLDAYEVENT:FALSE
SUMMARY:Fusion Soccer Academy--Travel Tryouts
DESCRIPTION:Welcome to FSA!  We are excited to begin our new journey towards player and coaching excellence.  While the process is going to be a long one with many ups and downs\, there is no doubt in my mind our players and families will benefit from such endeavors.  In order for this to happen\, ultimately\, a soccer culture must be created and developed.  This beautiful Game is for ''Everyone… Everywhere… All The Time.''  It should be played in it's rawest of forms (uninhibited… free… and full of creativity).  Our intent is to cultivate from this environment\, and to allow every player the opportunity of developing at their own pace.  \n\nFusion Soccer Academy\n\nFall 2006 Travel Tryout Information\n\n \n\nBoys Travel Tryouts - June 5 and June 7 @ 6:00 pm\n\n                   U9 to U11 at Avon fields\n\n                   U12 to U14 at Brownsburg fields \n\n \n\nGirls Travel Tryouts - June 6 and June 8 @ 6:00 pm\n\n                   U9 to U11 at Avon fields \n\n                   U12 to U14 at Brownsburg fields\n\n \n\nPre-registration information for tryouts will be available soon.
X-ALT-DESC;FMTTYPE=text/html:Welcome to FSA!  We are excited to begin our new journey towards player and coaching excellence.  While the process is going to be a long one with many ups and downs\, there is no doubt in my mind our players and families will benefit from such endeavors.  In order for this to happen\, ultimately\, a soccer culture must be created and developed.  This beautiful Game is for ''Everyone… Everywhere… All The Time.''  It should be played in it's rawest of forms (uninhibited… free… and full of creativity).  Our intent is to cultivate from this environment\, and to allow every player the opportunity of developing at their own pace.  \n\nFusion Soccer Academy\n\nFall 2006 Travel Tryout Information\n\n \n\nBoys Travel Tryouts - June 5 and June 7 @ 6:00 pm\n\n                   U9 to U11 at Avon fields\n\n                   U12 to U14 at Brownsburg fields \n\n \n\nGirls Travel Tryouts - June 6 and June 8 @ 6:00 pm\n\n                   U9 to U11 at Avon fields \n\n                   U12 to U14 at Brownsburg fields\n\n \n\nPre-registration information for tryouts will be available soon.\n
LOCATION:Boys Travel Tryouts June 5th & 7th: Ages U9-U11 at the Avon Fields\, Ages U12-U14 at the Brownsburg Fields. Girls Travel Tryouts June 6th & 8th: Ages U9-U11 at the Avon Fields\, Ages U12-U14 at the Brownsburg Fields. Pre-registration is recommended on the league website: www.indyfusionsoccer.com
UID:e.2778.225
SEQUENCE:3
DTSTAMP:20260424T142731Z
URL:https://www.brownsburg.com/events/details/fusion-soccer-academy-travel-tryouts-06-08-2006-225
END:VEVENT

END:VCALENDAR
