BEGIN:VCALENDAR
VERSION:2.0
PRODID:-//ChamberMaster//Event Calendar 2.0//EN
METHOD:PUBLISH
X-PUBLISHED-TTL:P3D
REFRESH-INTERVAL:P3D
CALSCALE:GREGORIAN
BEGIN:VEVENT
DTSTART:20070707T140000Z
DTEND:20070707T210000Z
X-MICROSOFT-CDO-ALLDAYEVENT:FALSE
SUMMARY:Garden Tour 3rd Annual
DESCRIPTION:7 various gardens in the Brownsburg area.  Tickets are available at Wicker Works & Country Harmony.
X-ALT-DESC;FMTTYPE=text/html:7 various gardens in the Brownsburg area.  Tickets are available at Wicker Works & Country Harmony.  
LOCATION:
UID:e.2778.435
SEQUENCE:3
DTSTAMP:20260423T211527Z
URL:https://www.brownsburg.com/events/details/garden-tour-3rd-annual-07-07-2007-435
END:VEVENT

END:VCALENDAR
