BEGIN:VCALENDAR
VERSION:2.0
PRODID:-//ChamberMaster//Event Calendar 2.0//EN
METHOD:PUBLISH
X-PUBLISHED-TTL:P3D
REFRESH-INTERVAL:P3D
CALSCALE:GREGORIAN
BEGIN:VEVENT
DTSTART:20070708T160000Z
DTEND:20070708T210000Z
X-MICROSOFT-CDO-ALLDAYEVENT:FALSE
SUMMARY:Garden Tour 3rd Annual
DESCRIPTION:7 various gardens in the Brownsburg area.  Tickets are sold at Wicker Works & Country Harmony.
X-ALT-DESC;FMTTYPE=text/html:7 various gardens in the Brownsburg area.  Tickets are sold at Wicker Works & Country Harmony.
LOCATION:
UID:e.2778.436
SEQUENCE:3
DTSTAMP:20260423T211835Z
URL:https://www.brownsburg.com/events/details/garden-tour-3rd-annual-07-08-2007-436
END:VEVENT

END:VCALENDAR
