BEGIN:VCALENDAR
VERSION:2.0
PRODID:-//ChamberMaster//Event Calendar 2.0//EN
METHOD:PUBLISH
X-PUBLISHED-TTL:P3D
REFRESH-INTERVAL:P3D
CALSCALE:GREGORIAN
BEGIN:VEVENT
DTSTART:20081111T220000Z
DTEND:20081112T010000Z
X-MICROSOFT-CDO-ALLDAYEVENT:FALSE
SUMMARY:''Girls Night Out'' Revelations Salon & Spa
DESCRIPTION:
X-ALT-DESC;FMTTYPE=text/html:
LOCATION:224 N. Green St. Apt. C\, Brownsburg\, IN 46112 224 N. Green St. We will have tons of discounts on services and product\, Triste will be here from Winslow Facial Plastic Surgery\, wine and hors d'vours will be served\, and much much more.....Please call to RSVP 852-9100 soon\, we look forward to pampering you!
UID:e.2778.626
SEQUENCE:3
DTSTAMP:20260422T202828Z
URL:https://www.brownsburg.com/events/details/girls-night-out-revelations-salon-spa-11-11-2008-626
END:VEVENT

END:VCALENDAR
