BEGIN:VCALENDAR
VERSION:2.0
PRODID:-//ChamberMaster//Event Calendar 2.0//EN
METHOD:PUBLISH
X-PUBLISHED-TTL:P3D
REFRESH-INTERVAL:P3D
CALSCALE:GREGORIAN
BEGIN:VEVENT
DTSTART:20060203T050000Z
DTEND:20060204T044500Z
X-MICROSOFT-CDO-ALLDAYEVENT:FALSE
SUMMARY:Go Red and Raise Awareness about Heart Disease
DESCRIPTION:Go Red and Raise Awareness about Heart Disease\n\nHendricks Regional Health is encouraging all local businesses to Go Red on February 3 to help raise awareness about heart disease.\n\nIf you plan to participate  - let us know. \n\nThe Hendricks County Flyer will be providing two ads thanking participating businesses and organizations for their support. In addition\, we are also working with the Flyer on a story about Hendricks County's participation in Go Red with information about heart disease. A reporter from the Flyer will visit participating organizations on February 3 to take photos of employees wearing red for the following week's paper.\n\nYou can sign up to participate by calling me at 745-8606 or clleyba@hendricks.org.\n\nWe look forward to hearing from you and making this year's Go Red event a success in Hendricks County.
X-ALT-DESC;FMTTYPE=text/html:Go Red and Raise Awareness about Heart Disease\n\nHendricks Regional Health is encouraging all local businesses to Go Red on February 3 to help raise awareness about heart disease.\n\nIf you plan to participate  - let us know. \n\nThe Hendricks County Flyer will be providing two ads thanking participating businesses and organizations for their support. In addition\, we are also working with the Flyer on a story about Hendricks County's participation in Go Red with information about heart disease. A reporter from the Flyer will visit participating organizations on February 3 to take photos of employees wearing red for the following week's paper.\n\nYou can sign up to participate by calling me at 745-8606 or clleyba@hendricks.org.\n\nWe look forward to hearing from you and making this year's Go Red event a success in Hendricks County.\n
LOCATION:1000 East Main Street\, Danville\, IN 46122 Click this link for more information.
UID:e.2778.89
SEQUENCE:3
DTSTAMP:20260424T205731Z
URL:https://www.brownsburg.com/events/details/go-red-and-raise-awareness-about-heart-disease-02-03-2006-89
END:VEVENT

END:VCALENDAR
