BEGIN:VCALENDAR
VERSION:2.0
PRODID:-//ChamberMaster//Event Calendar 2.0//EN
METHOD:PUBLISH
X-PUBLISHED-TTL:P3D
REFRESH-INTERVAL:P3D
CALSCALE:GREGORIAN
BEGIN:VEVENT
DTSTART;VALUE=DATE:20060609
DTEND;VALUE=DATE:20060612
TRANSP:TRANSPARENT
X-MICROSOFT-CDO-ALLDAYEVENT:TRUE
SUMMARY:Goodguys Hot Rod Nationals
DESCRIPTION:
X-ALT-DESC;FMTTYPE=text/html:
LOCATION:10267 East U.S. Highway 136\, Indianapolis\, IN 46234 10267 East U.S. Hwy 136
UID:e.2778.115
SEQUENCE:3
DTSTAMP:20260424T142641Z
URL:https://www.brownsburg.com/events/details/goodguys-hot-rod-nationals-06-09-2006-115
END:VEVENT

END:VCALENDAR
