BEGIN:VCALENDAR
VERSION:2.0
PRODID:-//ChamberMaster//Event Calendar 2.0//EN
METHOD:PUBLISH
X-PUBLISHED-TTL:P3D
REFRESH-INTERVAL:P3D
CALSCALE:GREGORIAN
BEGIN:VEVENT
DTSTART:20050421T190000Z
DTEND:20050421T230000Z
X-MICROSOFT-CDO-ALLDAYEVENT:FALSE
SUMMARY:GRAND OPENING - SUPERIOR KITCHEN & BATH
DESCRIPTION:You're invited to the Grand Opening of Superior Kitchen & Bath Showroom located in the East Shopping Center!
X-ALT-DESC;FMTTYPE=text/html:You're invited to the Grand Opening of Superior Kitchen & Bath Showroom located in the East Shopping Center!  
LOCATION:1038 East Main Street\, Brownsburg\, IN 46112 1038 E. Main Street Brownsburg
UID:e.2778.16
SEQUENCE:3
DTSTAMP:20260425T123127Z
URL:https://www.brownsburg.com/events/details/grand-opening-superior-kitchen-bath-04-21-2005-16
END:VEVENT

END:VCALENDAR
