BEGIN:VCALENDAR
VERSION:2.0
PRODID:-//ChamberMaster//Event Calendar 2.0//EN
METHOD:PUBLISH
X-PUBLISHED-TTL:P3D
REFRESH-INTERVAL:P3D
CALSCALE:GREGORIAN
BEGIN:VEVENT
DTSTART;VALUE=DATE:20100501
DTEND;VALUE=DATE:20100509
TRANSP:TRANSPARENT
X-MICROSOFT-CDO-ALLDAYEVENT:TRUE
SUMMARY:Habitat for Humanity of Hendricks County
DESCRIPTION:''Unless the Lord builds the house\, its builders labor in vain.'' (Psalm 127:1)\nRise up Church and build! \nLet's Go Ladies\, and build again like we did last summer!\nThe week before Mothers Day will be a National Women's Build week with Habitat for Humanity. Women of all skill levels are needed to build a home at 3536 Hunt St. in Plainfield\, IN.\nYour hands and funds are needed to make this house a home for another Habitat family in need. Donations are greatly needed to fund this house!  We are seeking a goal of $55\,000 for material expenses.  Lowes's Stores have started the ball rolling with $5\,000.  What could you or your employer do?\nRegister Now! Contact Karen Arnold at: 317- 272-1405\nHabitat-VC@indy.rr.com \nHabitat for Humanity of Hendricks Co. Inc. 360 N. SR 267 Avon\, IN 46123 317-272-1405\nHabitat-Hendricks@indy.rr.com\nhttp://www.Habitat-Hendricks.org
X-ALT-DESC;FMTTYPE=text/html:''Unless the Lord builds the house\, its builders labor in vain.'' (Psalm 127:1)<p>\nRise up Church and build! <p>\nLet's Go Ladies\, and build again like we did last summer!<p>\nThe week before Mothers Day will be a National Women's Build week with Habitat for Humanity. Women of all skill levels are needed to build a home at 3536 Hunt St. in Plainfield\, IN.<p>\nYour hands and funds are needed to make this house a home for another Habitat family in need. Donations are greatly needed to fund this house!  We are seeking a goal of $55\,000 for material expenses.  Lowes's Stores have started the ball rolling with $5\,000.  <b>What could you or your employer do?</b><p>\nRegister Now! Contact Karen Arnold at: 317- 272-1405\nHabitat-VC@indy.rr.com <p>\nHabitat for Humanity of Hendricks Co. Inc. 360 N. SR 267 Avon\, IN 46123 317-272-1405<p>\nHabitat-Hendricks@indy.rr.com<p>\nhttp://www.Habitat-Hendricks.org<p>
LOCATION:Women's Build will be located at:\, Plainfield\, IN 46168
UID:e.2778.925
SEQUENCE:3
DTSTAMP:20260421T163325Z
URL:https://www.brownsburg.com/events/details/habitat-for-humanity-of-hendricks-county-05-01-2010-925
END:VEVENT

END:VCALENDAR
