BEGIN:VCALENDAR
VERSION:2.0
PRODID:-//ChamberMaster//Event Calendar 2.0//EN
METHOD:PUBLISH
X-PUBLISHED-TTL:P3D
REFRESH-INTERVAL:P3D
CALSCALE:GREGORIAN
BEGIN:VEVENT
DTSTART:20081010T223000Z
DTEND:20081027T020000Z
X-MICROSOFT-CDO-ALLDAYEVENT:FALSE
SUMMARY:HAUNTS OF HIDDEN RIVER HAUNTED HAYRIDES!
DESCRIPTION:October 10\,11\,17\,18\,24\,25 & 26 Haunted Hayride Tickets $5.00\, Kids Costume contest Oct. 25th 6pm\, Slightly Haunted Puppet Show Oct. 25th 7:30p.m. & 8:30p.m.\, Haunted Chili Cookoff Oct. 11th 6p.m.-8p.m. KIST Alive and in concert Oct. 18th The perfect Family evening with 100% of net proceed return to the Brownsburg Community! Visit WWW.HAUNTEDHAYRIDES.ORG
X-ALT-DESC;FMTTYPE=text/html:October 10\,11\,17\,18\,24\,25 & 26 Haunted Hayride Tickets $5.00\, Kids Costume contest Oct. 25th 6pm\, Slightly Haunted Puppet Show Oct. 25th 7:30p.m. & 8:30p.m.\, Haunted Chili Cookoff Oct. 11th 6p.m.-8p.m. KIST Alive and in concert Oct. 18th The perfect Family evening with 100% of net proceed return to the Brownsburg Community! Visit WWW.HAUNTEDHAYRIDES.ORG 
LOCATION:Arbuckle Acres Park
UID:e.2778.606
SEQUENCE:3
DTSTAMP:20260422T220118Z
URL:https://www.brownsburg.com/events/details/haunts-of-hidden-river-haunted-hayrides-10-10-2008-606
END:VEVENT

END:VCALENDAR
