BEGIN:VCALENDAR
VERSION:2.0
PRODID:-//ChamberMaster//Event Calendar 2.0//EN
METHOD:PUBLISH
X-PUBLISHED-TTL:P3D
REFRESH-INTERVAL:P3D
CALSCALE:GREGORIAN
BEGIN:VEVENT
DTSTART:20061029T233000Z
DTEND:20061030T030000Z
X-MICROSOFT-CDO-ALLDAYEVENT:FALSE
SUMMARY:Haunts of Hidden River Haunted Hayrides
DESCRIPTION:
X-ALT-DESC;FMTTYPE=text/html:
LOCATION:200 N. Green Street\, Brownsburg\, IN 46112 at Arbuckle Acres park\; 200 N. Green Street. Tickets are $5 each for hayride and $5 each for haunted house. Hardly haunted rides run from 6:30-7pm nightly.
UID:e.2778.325
SEQUENCE:3
DTSTAMP:20260424T085207Z
URL:https://www.brownsburg.com/events/details/haunts-of-hidden-river-haunted-hayrides-10-29-2006-325
END:VEVENT

END:VCALENDAR
