BEGIN:VCALENDAR
VERSION:2.0
PRODID:-//ChamberMaster//Event Calendar 2.0//EN
METHOD:PUBLISH
X-PUBLISHED-TTL:P3D
REFRESH-INTERVAL:P3D
CALSCALE:GREGORIAN
BEGIN:VEVENT
DTSTART:20051014T220000Z
DTEND:20051031T030000Z
X-MICROSOFT-CDO-ALLDAYEVENT:FALSE
SUMMARY:Haunts of Hidden River Hayrides
DESCRIPTION:Hendricks County's spookiest hayride experience.  The rides are through the woods of Arbuckle Acres Park.  Great concessions are available each night.  This year there will be a NEW 'Haunted House' for the bravest of all to enjoy along with new & scary adventures on your hayride.  The Hayride is $5 per 'Head'!  We have available once again\, the "Fast Track" reserved rides for only $10 per 'Head'!  Non-scary rides are from 6:00 PM to 6:30 PM each night.
X-ALT-DESC;FMTTYPE=text/html:Hendricks County's spookiest hayride experience.  The rides are through the woods of Arbuckle Acres Park.  Great concessions are available each night.  This year there will be a NEW 'Haunted House' for the bravest of all to enjoy along with new & scary adventures on your hayride.  The Hayride is $5 per 'Head'!  We have available once again\, the "Fast Track" reserved rides for only $10 per 'Head'!  Non-scary rides are from 6:00 PM to 6:30 PM each night.
LOCATION:200 N. Green Street\, Brownsburg\, IN 46112 Arbuckle Acres Park in the town of Brownsburg. Event dates are: Oct. 14\, 15\, 21\, 22\, 28\, 29\, and 30\, 2005.
UID:e.2778.27
SEQUENCE:3
DTSTAMP:20260425T030956Z
URL:https://www.brownsburg.com/events/details/haunts-of-hidden-river-hayrides-10-14-2005-27
END:VEVENT

END:VCALENDAR
