BEGIN:VCALENDAR
VERSION:2.0
PRODID:-//ChamberMaster//Event Calendar 2.0//EN
METHOD:PUBLISH
X-PUBLISHED-TTL:P3D
REFRESH-INTERVAL:P3D
CALSCALE:GREGORIAN
BEGIN:VEVENT
DTSTART:20071012T223000Z
DTEND:20071029T020000Z
X-MICROSOFT-CDO-ALLDAYEVENT:FALSE
SUMMARY:Haunts of the Hidden River
DESCRIPTION:
X-ALT-DESC;FMTTYPE=text/html:
LOCATION:Arbuckle Acres\, Brownsburg \, IN 46112 Arbuckle Acres Park - Brownsburg October 12\,13\, 19\,20\, 26\,27\,28 are the dates for the Haunted Hayrides!
UID:e.2778.468
SEQUENCE:3
DTSTAMP:20260423T153132Z
URL:https://www.brownsburg.com/events/details/haunts-of-the-hidden-river-10-12-2007-468
END:VEVENT

END:VCALENDAR
