BEGIN:VCALENDAR
VERSION:2.0
PRODID:-//ChamberMaster//Event Calendar 2.0//EN
METHOD:PUBLISH
X-PUBLISHED-TTL:P3D
REFRESH-INTERVAL:P3D
CALSCALE:GREGORIAN
BEGIN:VEVENT
DTSTART:20061026T173000Z
DTEND:20061026T193000Z
X-MICROSOFT-CDO-ALLDAYEVENT:FALSE
SUMMARY:Health Fair/Flu Shots
DESCRIPTION:
X-ALT-DESC;FMTTYPE=text/html:
LOCATION:111 Eastern Avenue\, Brownsburg\, IN 46112 At the Community and Rec Center\; 111 Eastern Ave. Join us along with local vendors to gain knowledge and information on senior resources in the community. We will also be offering Flu Shots. Presented by Westside Health Care Marketing Association\, Roland Retirement Clubs and the Brownsburg Parks and Recreation Department. Free with Medicare Plan B.
UID:e.2778.332
SEQUENCE:3
DTSTAMP:20260424T100200Z
URL:https://www.brownsburg.com/events/details/health-fair-flu-shots-10-26-2006-332
END:VEVENT

END:VCALENDAR
