BEGIN:VCALENDAR
VERSION:2.0
PRODID:-//ChamberMaster//Event Calendar 2.0//EN
METHOD:PUBLISH
X-PUBLISHED-TTL:P3D
REFRESH-INTERVAL:P3D
CALSCALE:GREGORIAN
BEGIN:VEVENT
DTSTART:20070512T170000Z
DTEND:20070512T200000Z
X-MICROSOFT-CDO-ALLDAYEVENT:FALSE
SUMMARY:Health Fair & Youth Bike Safety
DESCRIPTION:
X-ALT-DESC;FMTTYPE=text/html:
LOCATION:470 E. Northfield Drive\, Brownsburg\, IN 46112
UID:e.2778.445
SEQUENCE:3
DTSTAMP:20260423T231048Z
URL:https://www.brownsburg.com/events/details/health-fair-youth-bike-safety-05-12-2007-445
END:VEVENT

END:VCALENDAR
