BEGIN:VCALENDAR
VERSION:2.0
PRODID:-//ChamberMaster//Event Calendar 2.0//EN
METHOD:PUBLISH
X-PUBLISHED-TTL:P3D
REFRESH-INTERVAL:P3D
CALSCALE:GREGORIAN
BEGIN:VEVENT
DTSTART:20060520T170000Z
DTEND:20060520T200000Z
X-MICROSOFT-CDO-ALLDAYEVENT:FALSE
SUMMARY:Health & Safety Fair
DESCRIPTION:It's time for the Brownsburg Fire Territory's Annual\n\nHealth   or have your helment checked for proper size.
X-ALT-DESC;FMTTYPE=text/html:It's time for the Brownsburg Fire Territory's Annual\n\nHealth & Safety Fair\n\nSaturday\, May 20\, 2006\n1:00pm – 4:00pm\n\nPublic Safety Building\nStation 131\n55 E. Main Street\nBrownsburg\, Indiana\n\nFree Health Screenings\nFree Safety Information\nFire Trucks\nSmokehouse Trailer\nGreat Afternoon at the Firehouse\n\nThe Blood Mobile will be available from 1pm - 4pm for donations.\n\nThe Brownsburg Kiwanis is hosting a bike rodeo for kids.  Bring your bike and learn bike safety by taking the course challenge.  Clarian Health - West will be inspecting bikes for safety.  Hendricks Regional Health will be giving away bike helmets while supplies last\; or have your helment checked for proper size.    \n
LOCATION:470 East Northfield Drive\, Brownsburg\, IN 46112 Public Safety Building\, Station 131\, 55 E. Main Street. Free health screenings\, safety information\, smokehouse trailer and the fire trucks will be available for viewing. The Blood Mobile will be available from 1-4pm for donations.
UID:e.2778.92
SEQUENCE:3
DTSTAMP:20260424T161202Z
URL:https://www.brownsburg.com/events/details/health-safety-fair-05-20-2006-92
END:VEVENT

END:VCALENDAR
