BEGIN:VCALENDAR
VERSION:2.0
PRODID:-//ChamberMaster//Event Calendar 2.0//EN
METHOD:PUBLISH
X-PUBLISHED-TTL:P3D
REFRESH-INTERVAL:P3D
CALSCALE:GREGORIAN
BEGIN:VEVENT
DTSTART:20060913T220000Z
DTEND:20060914T020000Z
X-MICROSOFT-CDO-ALLDAYEVENT:FALSE
SUMMARY:Healthcare Provider Class
DESCRIPTION:The Brownsburg Fire Territory is offering an American Heart Association Healthcare Provider Class on Wednesday\, September 13\, 2006 at the Station 131\, 55 E. Main Street in Brownsburg.  The class will begin at 6:00pm and will end around 10:00pm.  The cost of the class is $40.00.\n\nThis class is for people in the healthcare industry.  The class covers Adult/Child CPR and Automatic External Defibrillator use\, infant CPR\, use of bag-valve-masks\, and choking emergencies for all ages.  Participants will receive a certification card good for 2 yrs upon completing the appropriate skill testing and written test.  \n\nStudent workbooks will be provided during the class to review.  However\, you may wish to review material prior to class and after class\, therefore you may purchase a student workbook from the following AHA distributors:\n\nChanning Bete Company		1-800-611-6083	aha.channing-bete.com\nLaerdal Medical Corporation	1-888-562-4242	www.laerdal.com\nWorldpoint ECC\, INC.		1-888-322-8350	www.eworldpoint.com  \n\nPlease wear loose\, comfortable clothing.  You will be practicing skills that require working on your hands and knees\, bending\, standing\, and lifting.  If you have a physical condition that may prevent these activities\, please let one of the instructors know on the day of class. Adjustments can be made\n\nRegistration forms can be found on our website at www.brownsburgfire.org or by calling 852-1190 to have one mailed or faxed to you.  Registrations are due by September 7th to secure a spot in the class.
X-ALT-DESC;FMTTYPE=text/html:The Brownsburg Fire Territory is offering an American Heart Association Healthcare Provider Class on Wednesday\, September 13\, 2006 at the Station 131\, 55 E. Main Street in Brownsburg.  The class will begin at 6:00pm and will end around 10:00pm.  The cost of the class is $40.00.\n\nThis class is for people in the healthcare industry.  The class covers Adult/Child CPR and Automatic External Defibrillator use\, infant CPR\, use of bag-valve-masks\, and choking emergencies for all ages.  Participants will receive a certification card good for 2 yrs upon completing the appropriate skill testing and written test.  \n\nStudent workbooks will be provided during the class to review.  However\, you may wish to review material prior to class and after class\, therefore you may purchase a student workbook from the following AHA distributors:\n\nChanning Bete Company		1-800-611-6083	aha.channing-bete.com\nLaerdal Medical Corporation	1-888-562-4242	www.laerdal.com\nWorldpoint ECC\, INC.		1-888-322-8350	www.eworldpoint.com  \n\nPlease wear loose\, comfortable clothing.  You will be practicing skills that require working on your hands and knees\, bending\, standing\, and lifting.  If you have a physical condition that may prevent these activities\, please let one of the instructors know on the day of class. Adjustments can be made\n\nRegistration forms can be found on our website at www.brownsburgfire.org or by calling 852-1190 to have one mailed or faxed to you.  Registrations are due by September 7th to secure a spot in the class.\n
LOCATION:55 E. Main Street\, Brownsburg\, IN 46112 The Brownsburg Fire Territory is offering an American Heart Association Healthcare Provider Class on Wednesday\, September 13\, 2006 at the Station 131\, 55 E. Main Street in Brownsburg. The class will begin at 6:00pm and will end around 10:00pm. The cost of the class is $40.00. Registration forms can be found on our website at www.brownsburgfire.org or by calling 852-1190 to have one mailed or faxed to you. Registrations are due by September 7th to secure a spot in the class.
UID:e.2778.307
SEQUENCE:3
DTSTAMP:20260424T100054Z
URL:https://www.brownsburg.com/events/details/healthcare-provider-class-09-13-2006-307
END:VEVENT

END:VCALENDAR
