BEGIN:VCALENDAR
VERSION:2.0
PRODID:-//ChamberMaster//Event Calendar 2.0//EN
METHOD:PUBLISH
X-PUBLISHED-TTL:P3D
REFRESH-INTERVAL:P3D
CALSCALE:GREGORIAN
BEGIN:VEVENT
DTSTART:20060118T230000Z
DTEND:20060119T030000Z
X-MICROSOFT-CDO-ALLDAYEVENT:FALSE
SUMMARY:Healthcare Provider CPR
DESCRIPTION:The Brownsburg Fire Territory is offering a healthcare Provider CPR class on Wednesday\, January 18\, 2006\, for people needing their CPR certification for the healthcare field.  This class covers Adult & Pediatric CPR\, Choking & AED\, and use of bag-valve-masks.  The class will be held at Station 131\, 55 E. Main Street\, Brownsburg from 6pm-10pm.  The cost is $40 and includes your book and certification card upon completion of the class.\n\nVisit www.brownsburgfire.org for a registration form or call 317-852-1190 for more information.
X-ALT-DESC;FMTTYPE=text/html:The Brownsburg Fire Territory is offering a healthcare Provider CPR class on Wednesday\, January 18\, 2006\, for people needing their CPR certification for the healthcare field.  This class covers Adult & Pediatric CPR\, Choking & AED\, and use of bag-valve-masks.  The class will be held at Station 131\, 55 E. Main Street\, Brownsburg from 6pm-10pm.  The cost is $40 and includes your book and certification card upon completion of the class.\n\nVisit www.brownsburgfire.org for a registration form or call 317-852-1190 for more information.
LOCATION:55 East Main \, Brownsburg\, IN 46112 Brownsburg Fire Territory\, 55 East Main Street\, Brownsburg. This class covers Auldt and Pediatric CPR\, choking & AED\, and use of bag-valve-masks. Cost is $40 and registration is required. Visit www.brownburgfire.org or 852-1190 to register.
UID:e.2778.81
SEQUENCE:3
DTSTAMP:20260424T234916Z
URL:https://www.brownsburg.com/events/details/healthcare-provider-cpr-01-18-2006-81
END:VEVENT

END:VCALENDAR
