BEGIN:VCALENDAR
VERSION:2.0
PRODID:-//ChamberMaster//Event Calendar 2.0//EN
METHOD:PUBLISH
X-PUBLISHED-TTL:P3D
REFRESH-INTERVAL:P3D
CALSCALE:GREGORIAN
BEGIN:VEVENT
DTSTART:20060517T220000Z
DTEND:20060517T220000Z
X-MICROSOFT-CDO-ALLDAYEVENT:FALSE
SUMMARY:Healthcare Provider CPR
DESCRIPTION:The Brownsburg Fire Terriotory has a Healthcare Provider CPR class scheduled for 6pm on Wednesday\, May 17\, 2006 at St. 131 (55 E. Main Street).  Registration forms can be found on our website at www.brownsburgfire.org.  The cost is $40.00\, includes book and certification card.  Any questions\, call Stephanie Martindale at 317-852-1190.
X-ALT-DESC;FMTTYPE=text/html:The Brownsburg Fire Terriotory has a Healthcare Provider CPR class scheduled for 6pm on Wednesday\, May 17\, 2006 at St. 131 (55 E. Main Street).  Registration forms can be found on our website at www.brownsburgfire.org.  The cost is $40.00\, includes book and certification card.  Any questions\, call Stephanie Martindale at 317-852-1190.
LOCATION:55 E. Main Street\, Brownsburg\, IN 46112 The Brownsburg Fire Terriotory has a Healthcare Provider CPR class scheduled for 6pm on Wednesday\, May 17\, 2006 at St. 131 (55 E. Main Street). Registration forms can be found on our website at www.brownsburgfire.org. The cost is $40.00\, includes book and certification card. Any questions\, call Stephanie Martindale at 317-852-1190.
UID:e.2778.200
SEQUENCE:3
DTSTAMP:20260424T160328Z
URL:https://www.brownsburg.com/events/details/healthcare-provider-cpr-05-17-2006-200
END:VEVENT

END:VCALENDAR
