BEGIN:VCALENDAR
VERSION:2.0
PRODID:-//ChamberMaster//Event Calendar 2.0//EN
METHOD:PUBLISH
X-PUBLISHED-TTL:P3D
REFRESH-INTERVAL:P3D
CALSCALE:GREGORIAN
BEGIN:VEVENT
DTSTART:20060419T220000Z
DTEND:20060420T020000Z
X-MICROSOFT-CDO-ALLDAYEVENT:FALSE
SUMMARY:Healthcare Provider CPR Class
DESCRIPTION:Healthcare Provider CPR Class\nApril 19\, 2006\n6pm - 10pm\nBrownsburg Fire Territory\n55 E. Main Street\nBrownsburg\n \nRegistration paperwork can be found on our website at www.brownsburgfire.org.\nThe cost is $40.00 which includes your book and certification card.\n \nIf you have any questions\, please feel free to email Stephanie Martindale @ smartindale@brownsburgfire.org or call 852-1190.
X-ALT-DESC;FMTTYPE=text/html:Healthcare Provider CPR Class\nApril 19\, 2006\n6pm - 10pm\nBrownsburg Fire Territory\n55 E. Main Street\nBrownsburg\n \nRegistration paperwork can be found on our website at www.brownsburgfire.org.\nThe cost is $40.00 which includes your book and certification card.\n \nIf you have any questions\, please feel free to email Stephanie Martindale @ smartindale@brownsburgfire.org or call 852-1190.
LOCATION:55 E. Main Street\, Brownsburg\, IN 46112 55 E. Maint Street\, Brownsburg. Registration paperwork can be found at the Brownsburg Fire Territory website (www.brownsburgfire.org). The cost is $40 which includes your book and certification card.
UID:e.2778.182
SEQUENCE:3
DTSTAMP:20260424T173314Z
URL:https://www.brownsburg.com/events/details/healthcare-provider-cpr-class-04-19-2006-182
END:VEVENT

END:VCALENDAR
