BEGIN:VCALENDAR
VERSION:2.0
PRODID:-//ChamberMaster//Event Calendar 2.0//EN
METHOD:PUBLISH
X-PUBLISHED-TTL:P3D
REFRESH-INTERVAL:P3D
CALSCALE:GREGORIAN
BEGIN:VEVENT
DTSTART:20060909T130000Z
DTEND:20060909T170000Z
X-MICROSOFT-CDO-ALLDAYEVENT:FALSE
SUMMARY:Heartsaver CPR/AED Class
DESCRIPTION:The Brownsburg Fire Territory is offering an American Heart Association Heartsaver CPR/AED Class on Saturday\, September 9\, 2006 at the headquarters building\, 470 E. Northfield Drive (next to Bill Estes Ford) in Brownsburg to the public.  The class will begin at 9:00am and will end by 1:00pm.  The cost of the class is $30.00.\n\nThis class covers Adult/Child CPR and Automatic External Defibrillator use\, infant CPR\, and choking emergencies for all ages.  Participants will receive a completion card good for 2 yrs upon completing the appropriate skill testing.\n\nStudent workbooks will be provided during the class to review.  However\, you may wish to review material prior to class and after class\, therefore you may purchase a student workbook from the following AHA distributors:\n\nChanning Bete Company		1-800-611-6083	aha.channing-bete.com\nLaerdal Medical Corporation	1-888-562-4242	www.laerdal.com\nWorldpoint ECC\, INC.		1-888-322-8350	www.eworldpoint.com  \n\nPlease wear loose\, comfortable clothing.  You will be practicing skills that require working on your hands and knees\, bending\, standing\, and lifting.  If you have a physical condition that may prevent these activities\, please let one of the instructors know on the day of class. Adjustments can be made\n\nRegistration forms can be found on our website at www.brownsburgfire.org or by calling 852-1190 to have one mailed or faxed to you.  Registrations are due by September 2nd to secure a spot in the class.
X-ALT-DESC;FMTTYPE=text/html:The Brownsburg Fire Territory is offering an American Heart Association Heartsaver CPR/AED Class on Saturday\, September 9\, 2006 at the headquarters building\, 470 E. Northfield Drive (next to Bill Estes Ford) in Brownsburg to the public.  The class will begin at 9:00am and will end by 1:00pm.  The cost of the class is $30.00.\n\nThis class covers Adult/Child CPR and Automatic External Defibrillator use\, infant CPR\, and choking emergencies for all ages.  Participants will receive a completion card good for 2 yrs upon completing the appropriate skill testing.\n\nStudent workbooks will be provided during the class to review.  However\, you may wish to review material prior to class and after class\, therefore you may purchase a student workbook from the following AHA distributors:\n\nChanning Bete Company		1-800-611-6083	aha.channing-bete.com\nLaerdal Medical Corporation	1-888-562-4242	www.laerdal.com\nWorldpoint ECC\, INC.		1-888-322-8350	www.eworldpoint.com  \n\nPlease wear loose\, comfortable clothing.  You will be practicing skills that require working on your hands and knees\, bending\, standing\, and lifting.  If you have a physical condition that may prevent these activities\, please let one of the instructors know on the day of class. Adjustments can be made\n\nRegistration forms can be found on our website at www.brownsburgfire.org or by calling 852-1190 to have one mailed or faxed to you.  Registrations are due by September 2nd to secure a spot in the class.\n
LOCATION:470 East Northfield Drive\, Brownsburg\, IN 46112 The Brownsburg Fire Territory is offering an American Heart Association Heartsaver CPR/AED Class on Saturday\, September 9\, 2006 at the headquarters building\, 470 E. Northfield Drive (next to Bill Estes Ford) in Brownsburg to the public. The class will begin at 9:00am and will end by 1:00pm. The cost of the class is $30.00. Registration forms can be found on our website at www.brownsburgfire.org or by calling 852-1190 to have one mailed or faxed to you. Registrations are due by September 2nd to secure a spot in the class.
UID:e.2778.306
SEQUENCE:3
DTSTAMP:20260424T095822Z
URL:https://www.brownsburg.com/events/details/heartsaver-cpr-aed-class-09-09-2006-306
END:VEVENT

END:VCALENDAR
