BEGIN:VCALENDAR
VERSION:2.0
PRODID:-//ChamberMaster//Event Calendar 2.0//EN
METHOD:PUBLISH
X-PUBLISHED-TTL:P3D
REFRESH-INTERVAL:P3D
CALSCALE:GREGORIAN
BEGIN:VEVENT
DTSTART:20060715T140000Z
DTEND:20060716T190000Z
X-MICROSOFT-CDO-ALLDAYEVENT:FALSE
SUMMARY:Hendricks County Aviation 2nd Annual Open House
DESCRIPTION:Hendricks County Aviation will be hosting its 2nd Annual Open House on Saturday and Sunday\, July 15 &16.  Hours are 10am - 2pm on Saturday and 12 noon - 3pm on Sunday\, rain or shine.  Bring the entire family to see all the activity at the Hendricks County Airport.  Airplanes will be on display and sightseeing flights will be available along with free raffles for Discovery Flights.  You've always dreamed about what it would be like to fly - come out and experience the thrill of flight.  See the newest of our two Cessna 172 flight training aircraft\, both with state of the art Garmin G1000 electronic cockpits.  Free hot dogs and refreshments will also be available including toy airplanes for the kids.  The airport is located between Avon and Danville\, 1/2 mile south of US 36 (Rockville Road) on County Road 300 E.  For more information\, visit us on the web at www.flyhca.com or call Hendricks County Aviation at 317-745-4422.
X-ALT-DESC;FMTTYPE=text/html:Hendricks County Aviation will be hosting its 2nd Annual Open House on Saturday and Sunday\, July 15 &16.  Hours are 10am - 2pm on Saturday and 12 noon - 3pm on Sunday\, rain or shine.  Bring the entire family to see all the activity at the Hendricks County Airport.  Airplanes will be on display and sightseeing flights will be available along with free raffles for Discovery Flights.  You've always dreamed about what it would be like to fly - come out and experience the thrill of flight.  See the newest of our two Cessna 172 flight training aircraft\, both with state of the art Garmin G1000 electronic cockpits.  Free hot dogs and refreshments will also be available including toy airplanes for the kids.  The airport is located between Avon and Danville\, 1/2 mile south of US 36 (Rockville Road) on County Road 300 E.  For more information\, visit us on the web at www.flyhca.com or call Hendricks County Aviation at 317-745-4422.
LOCATION:2749 Gordan Graham Blvd.\, #101\, Danville\, IN 46122 Located 1/2 mile south of US 36 on CR 300 E. 10am-2pm on Saturday and 12-3pm on Sunday. Rain or shine. Airplanes on display and sightseeing flights available. Free hotdogs and refreshments.
UID:e.2778.261
SEQUENCE:3
DTSTAMP:20260424T125253Z
URL:https://www.brownsburg.com/events/details/hendricks-county-aviation-2nd-annual-open-house-07-15-2006-261
END:VEVENT

END:VCALENDAR
