BEGIN:VCALENDAR
VERSION:2.0
PRODID:-//ChamberMaster//Event Calendar 2.0//EN
METHOD:PUBLISH
X-PUBLISHED-TTL:P3D
REFRESH-INTERVAL:P3D
CALSCALE:GREGORIAN
BEGIN:VEVENT
DTSTART:20060616T190000Z
DTEND:20060616T210000Z
X-MICROSOFT-CDO-ALLDAYEVENT:FALSE
SUMMARY:Hendricks County Business Leader Cover Party
DESCRIPTION:You're Invited!!\n\nPlease join the Hendricks County Business Leader for its June cover party! \nHosted by Banning Engineering\, this party will feature fun\, food \nand networking opportunities.\n\nHendricks County Business Leader is excited about this new monthly\nevent and we hope you can make it.\n\nWhen?\nFriday\, June 16\n3 p.m. to 5 p.m.\n\nWhere?\nBanning Engineering: 853 Columbia Road\, Suite 101\, Plainfield\, IN 46168.\n\nBring your business cards to meet your next \ncustomer and to enter to win great prizes.\n\nPlease RSVP by June 14 to trabe@avatarpr.com or by calling 837-9832 ext. 13.\n\nTo learn more about Jeff Banning and Banning Engineering be sure to read the cover story in this months issue of Hendricks County Business Leader. Learn more about Banning Engineering by visiting their website at www.banningengineering.com. Hope to see you there.
X-ALT-DESC;FMTTYPE=text/html:You're Invited!!\n\nPlease join the Hendricks County Business Leader for its June cover party! \nHosted by Banning Engineering\, this party will feature fun\, food \nand networking opportunities.\n\nHendricks County Business Leader is excited about this new monthly\nevent and we hope you can make it.\n\nWhen?\nFriday\, June 16\n3 p.m. to 5 p.m.\n\nWhere?\nBanning Engineering: 853 Columbia Road\, Suite 101\, Plainfield\, IN 46168.\n\nBring your business cards to meet your next \ncustomer and to enter to win great prizes.\n\nPlease RSVP by June 14 to trabe@avatarpr.com or by calling 837-9832 ext. 13.\n\nTo learn more about Jeff Banning and Banning Engineering be sure to read the cover story in this months issue of Hendricks County Business Leader. Learn more about Banning Engineering by visiting their website at www.banningengineering.com. Hope to see you there.\n\n
LOCATION:853 Columbia Road\, Suite 101\, Plainfield\, IN 46168 Hosted by Banning Engineering\, this party will feature fun\, food and networking opportunities\; 853 Columbia Rd\, Ste 101\; Plainfield. Please RSVP by June 14 to trabe@avatarpr.com or by calling 837-9832 ext. 13.
UID:e.2778.258
SEQUENCE:3
DTSTAMP:20260424T142739Z
URL:https://www.brownsburg.com/events/details/hendricks-county-business-leader-cover-party-06-16-2006-258
END:VEVENT

END:VCALENDAR
