BEGIN:VCALENDAR
VERSION:2.0
PRODID:-//ChamberMaster//Event Calendar 2.0//EN
METHOD:PUBLISH
X-PUBLISHED-TTL:P3D
REFRESH-INTERVAL:P3D
CALSCALE:GREGORIAN
BEGIN:VEVENT
DTSTART:20060919T210000Z
DTEND:20060919T230000Z
X-MICROSOFT-CDO-ALLDAYEVENT:FALSE
SUMMARY:Hendricks County Business Leader Cover Party
DESCRIPTION:You're Invited!!\n\nIt is our 1 Year Anniversary Celebration!\n\nPlease join the Hendricks County Business Leader for its September cover party! \nFeaturing Dr. Charles Thomas\, owner of Chateau Thomas Winery\, \nwith operations in Plainfield and Nashville\, \nthis party will feature fun\, food\nand networking opportunities.\n\nHendricks County Business Leader is excited about this monthly\nevent that has been successful in linking people to people and we hope you can make it. This month\, we hope to have all of our former cover story personalities in attendance\nand we will have 12 great door prizes to celebrate 12 great issues! \n\nWhen?\nTuesday\, September 19 \n5 p.m. to 7 p.m.\n\nWhere?\nChateau Thomas Winery\, 6291 Cambridge Way\, Plainfield.\n\nBring your business cards to meet your next\ncustomer and to enter to win great prizes\, 12 in all! \nA drawing for these prizes will be about 6:30 p.m. \n\nPlease RSVP by Friday\, September 15 to trabe@avatarpr.com or by calling 837-9832 ext. 13.\n\nTo learn more about Dr. Charles Thomas and The Grape Escape be sure to read the cover story in this months issue of Hendricks County Business Leader. Also\, a special thanks to LINCOLN BANK for sponsoring this months cover party! Hope to see you there!
X-ALT-DESC;FMTTYPE=text/html:You're Invited!!\n\nIt is our 1 Year Anniversary Celebration!\n\nPlease join the Hendricks County Business Leader for its September cover party! \nFeaturing Dr. Charles Thomas\, owner of Chateau Thomas Winery\, \nwith operations in Plainfield and Nashville\, \nthis party will feature fun\, food\nand networking opportunities.\n\nHendricks County Business Leader is excited about this monthly\nevent that has been successful in linking people to people and we hope you can make it. This month\, we hope to have all of our former cover story personalities in attendance\nand we will have 12 great door prizes to celebrate 12 great issues! \n\nWhen?\nTuesday\, September 19 \n5 p.m. to 7 p.m.\n\nWhere?\nChateau Thomas Winery\, 6291 Cambridge Way\, Plainfield.\n\nBring your business cards to meet your next\ncustomer and to enter to win great prizes\, 12 in all! \nA drawing for these prizes will be about 6:30 p.m. \n\nPlease RSVP by Friday\, September 15 to trabe@avatarpr.com or by calling 837-9832 ext. 13.\n\nTo learn more about Dr. Charles Thomas and The Grape Escape be sure to read the cover story in this months issue of Hendricks County Business Leader. Also\, a special thanks to LINCOLN BANK for sponsoring this months cover party! Hope to see you there!\n
LOCATION:6291 Cambridge Way\, Plainfield\, IN 46168 Chateau Thomas Winery\, 6291 Cambridge Way\, Plainfield. You're Invited!! It is our 1 Year Anniversary Celebration! Please join the Hendricks County Business Leader for its September cover party! Featuring Dr. Charles Thomas\, owner of Chateau Thomas Winery\, with operations in Plainfield and Nashville\, this party will feature fun\, food and networking opportunities. Hendricks County Business Leader is excited about this monthly event that has been successful in linking people to people and we hope you can make it. This month\, we hope to have all of our former cover story personalities in attendance and we will have 12 great door prizes to celebrate 12 great issues! Bring your business cards to meet your next customer and to enter to win great prizes\, 12 in all! A drawing for these prizes will be about 6:30 p.m. Please RSVP by Friday\, September 15 to trabe@avatarpr.com or by calling 837-9832 ext. 13.
UID:e.2778.346
SEQUENCE:3
DTSTAMP:20260424T113605Z
URL:https://www.brownsburg.com/events/details/hendricks-county-business-leader-cover-party-09-19-2006-346
END:VEVENT

END:VCALENDAR
