BEGIN:VCALENDAR
VERSION:2.0
PRODID:-//ChamberMaster//Event Calendar 2.0//EN
METHOD:PUBLISH
X-PUBLISHED-TTL:P3D
REFRESH-INTERVAL:P3D
CALSCALE:GREGORIAN
BEGIN:VEVENT
DTSTART:20060814T210000Z
DTEND:20060814T230000Z
X-MICROSOFT-CDO-ALLDAYEVENT:FALSE
SUMMARY:Hendricks County Business Leader Cover Party at Artistic Design Gallery
DESCRIPTION:You're Invited!!\n\nPlease join the Hendricks County Business Leader for its monthly cover party! \nHosted by Artistic Designs Gallery \, this party will feature fun\, food\nand networking opportunities.\n\nHendricks County Business Leader is excited about this successful monthly\nevent and we hope you can make it.\n\nWhen?\nMonday\, August 14\n5 p.m. to 7 p.m.\n\nWhere?\nArtistic Designs Gallery: 817 N. Green Street\, Brownsburg\, IN 46112.\n\nBring your business cards to meet your next\ncustomer and to enter to win great prizes.\n\nPlease RSVP by Friday August 11 to trabe@avatarpr.com or by calling 837-9832 ext. 13.\n\nTo learn more about Artistic Designs Gallery be sure to read the cover story in this months issue of Hendricks County Business Leader . . . It is definitely a work of art! This months cover party is being catered by Savannahs Catering in Danville and is sponsored again by Hubler Automotive Group. Thank you again for making our events great! And we hope to see you there\, so RSVP today and mark the date!\n\nHendricks County Business Leader\n"Where Hendricks County Business Comes First"
X-ALT-DESC;FMTTYPE=text/html:You're Invited!!\n\nPlease join the Hendricks County Business Leader for its monthly cover party! \nHosted by Artistic Designs Gallery \, this party will feature fun\, food\nand networking opportunities.\n\nHendricks County Business Leader is excited about this successful monthly\nevent and we hope you can make it.\n\nWhen?\nMonday\, August 14\n5 p.m. to 7 p.m.\n\nWhere?\nArtistic Designs Gallery: 817 N. Green Street\, Brownsburg\, IN 46112.\n\nBring your business cards to meet your next\ncustomer and to enter to win great prizes.\n\nPlease RSVP by Friday August 11 to trabe@avatarpr.com or by calling 837-9832 ext. 13.\n\nTo learn more about Artistic Designs Gallery be sure to read the cover story in this months issue of Hendricks County Business Leader . . . It is definitely a work of art! This months cover party is being catered by Savannahs Catering in Danville and is sponsored again by Hubler Automotive Group. Thank you again for making our events great! And we hope to see you there\, so RSVP today and mark the date!\n\nHendricks County Business Leader\n"Where Hendricks County Business Comes First"\n\n
LOCATION:817 N. Green Street\, Brownsburg\, IN 46112 817 N. Green Street\; Brownsburg. Please join the Hendricks County Business Leader for its monthly cover party! Hosted by Artistic Designs Gallery \, this party will feature fun\, food and networking opportunities. Bring your business cards to meet your next customer and to enter to win great prizes. Please RSVP by Friday August 11 to trabe@avatarpr.com or by calling 837-9832 ext. 13.
UID:e.2778.305
SEQUENCE:3
DTSTAMP:20260424T125731Z
URL:https://www.brownsburg.com/events/details/hendricks-county-business-leader-cover-party-at-artistic-design-gallery-08-14-2006-305
END:VEVENT

END:VCALENDAR
