BEGIN:VCALENDAR
VERSION:2.0
PRODID:-//ChamberMaster//Event Calendar 2.0//EN
METHOD:PUBLISH
X-PUBLISHED-TTL:P3D
REFRESH-INTERVAL:P3D
CALSCALE:GREGORIAN
BEGIN:VEVENT
DTSTART:20210608T153000Z
DTEND:20210608T163000Z
X-MICROSOFT-CDO-ALLDAYEVENT:FALSE
SUMMARY:Hendricks County Business Leader Women’s Luncheon
DESCRIPTION:Enjoy lunch\, networking and hearing from speaker Madalyn S. Kinsey as she shares from her book "I'll Go to the Gym When I Lose Weight The Humor of Being A Woman".   \n\n\n\nThis event sponsored by Hendricks Regional Health and Kemper CPA
X-ALT-DESC;FMTTYPE=text/html:<span style="color: rgb(86\, 92\, 104)\; font-family: &quot\;Helvetica Neue&quot\;\, Helvetica\, Arial\, sans-serif\; font-size: 14px\;"><span style="font-family:arial\;">Enjoy lunch\, networking and hearing from speaker&nbsp\;Madalyn S. Kinsey as she shares from her book</span> <span style="font-family:arial\;">&quot\;</span></span><span style="font-family:arial\;">I&rsquo\;ll Go to the Gym When I Lose Weight&ndash\;The Humor of Being A Woman&quot\;.&nbsp\; &nbsp\;<br />\n<br />\n<span style="color: rgb(86\, 92\, 104)\; font-size: 14px\;">This event sponsored by Hendricks Regional Health and Kemper CPA</span></span>
LOCATION:The Pavilion Center Washington Township Park 435 Whipple Lane\, Avon\, IN
UID:e.2778.6626
SEQUENCE:3
DTSTAMP:20260424T160741Z
URL:https://www.brownsburg.com/events/details/hendricks-county-business-leader-women-s-luncheon-6626
END:VEVENT

END:VCALENDAR
