BEGIN:VCALENDAR
VERSION:2.0
PRODID:-//ChamberMaster//Event Calendar 2.0//EN
METHOD:PUBLISH
X-PUBLISHED-TTL:P3D
REFRESH-INTERVAL:P3D
CALSCALE:GREGORIAN
BEGIN:VEVENT
DTSTART:20080207T220000Z
DTEND:20080208T013000Z
X-MICROSOFT-CDO-ALLDAYEVENT:FALSE
SUMMARY:Hendricks County College and Career Fair
DESCRIPTION:Workshop starts at 5 p.m.\; College Fair runs 7:00 to 8:30 p.m.  Come and experience all the educational opportunities and choices available to high school graduates\, both YOUTH and ADULT!  There will be over 80 different education providers.
X-ALT-DESC;FMTTYPE=text/html:Workshop starts at 5 p.m.\; College Fair runs 7:00 to 8:30 p.m.  Come and experience all the educational opportunities and choices available to high school graduates\, both YOUTH and ADULT!  There will be over 80 different education providers.
LOCATION:1900 E. Main Street\, Danville\, IN 46122 Workshop starts at 5 p.m.\; College Fair runs 7:00 to 8:30 p.m.
UID:e.2778.515
SEQUENCE:3
DTSTAMP:20260423T095241Z
URL:https://www.brownsburg.com/events/details/hendricks-county-college-and-career-fair-02-07-2008-515
END:VEVENT

END:VCALENDAR
