BEGIN:VCALENDAR
VERSION:2.0
PRODID:-//ChamberMaster//Event Calendar 2.0//EN
METHOD:PUBLISH
X-PUBLISHED-TTL:P3D
REFRESH-INTERVAL:P3D
CALSCALE:GREGORIAN
BEGIN:VEVENT
DTSTART:20070614T143000Z
DTEND:20070614T143000Z
X-MICROSOFT-CDO-ALLDAYEVENT:FALSE
SUMMARY:Hendricks County Community Foundation Golf Outing
DESCRIPTION:
X-ALT-DESC;FMTTYPE=text/html:
LOCATION:
UID:e.2778.455
SEQUENCE:3
DTSTAMP:20260423T212630Z
URL:https://www.brownsburg.com/events/details/hendricks-county-community-foundation-golf-outing-06-14-2007-455
END:VEVENT

END:VCALENDAR
