BEGIN:VCALENDAR
VERSION:2.0
PRODID:-//ChamberMaster//Event Calendar 2.0//EN
METHOD:PUBLISH
X-PUBLISHED-TTL:P3D
REFRESH-INTERVAL:P3D
CALSCALE:GREGORIAN
BEGIN:VEVENT
DTSTART:20080415T180000Z
DTEND:20080415T180000Z
X-MICROSOFT-CDO-ALLDAYEVENT:FALSE
SUMMARY:Hendricks County Community Foundation Non Profit Networking Opportunity
DESCRIPTION:
X-ALT-DESC;FMTTYPE=text/html:
LOCATION:Avon Washington Township Public Library. RSVP to 317-718-1200.
UID:e.2778.535
SEQUENCE:3
DTSTAMP:20260423T070404Z
URL:https://www.brownsburg.com/events/details/hendricks-county-community-foundation-non-profit-networking-opportunity-04-15-2008-535
END:VEVENT

END:VCALENDAR
