BEGIN:VCALENDAR
VERSION:2.0
PRODID:-//ChamberMaster//Event Calendar 2.0//EN
METHOD:PUBLISH
X-PUBLISHED-TTL:P3D
REFRESH-INTERVAL:P3D
CALSCALE:GREGORIAN
BEGIN:VEVENT
DTSTART;VALUE=DATE:20070322
DTEND;VALUE=DATE:20070323
TRANSP:TRANSPARENT
X-MICROSOFT-CDO-ALLDAYEVENT:TRUE
SUMMARY:Hendricks County Community Foundation Nonprofit Networking
DESCRIPTION:Please check the time and palce.  There are two events and they are at two different times and two different places. \nEvent Details: The Hendricks County Community Foundation presents two opportunities to network with others in the Hendricks County nonprofit community.  Susan Rozzi\, Associate Director of the Hendricks County Community Foundation\, will present ''Marketing and Communication Tips for Non-Profits.''  Sessions will be held at 10 am at the Brownsburg Public Library and at 5:30 pm at the Plainfield Public Library.  For further information\, contact the Hendricks County Community Foundation at 718.1200 or visit their website at www.hendrickscountycf.org.
X-ALT-DESC;FMTTYPE=text/html:Please check the time and palce.  There are two events and they are at two different times and two different places. \nEvent Details: The Hendricks County Community Foundation presents two opportunities to network with others in the Hendricks County nonprofit community.  Susan Rozzi\, Associate Director of the Hendricks County Community Foundation\, will present ''Marketing and Communication Tips for Non-Profits.''  Sessions will be held at 10 am at the Brownsburg Public Library and at 5:30 pm at the Plainfield Public Library.  For further information\, contact the Hendricks County Community Foundation at 718.1200 or visit their website at www.hendrickscountycf.org.\n
LOCATION:
UID:e.2778.432
SEQUENCE:3
DTSTAMP:20260424T013848Z
URL:https://www.brownsburg.com/events/details/hendricks-county-community-foundation-nonprofit-networking-03-22-2007-432
END:VEVENT

END:VCALENDAR
