BEGIN:VCALENDAR
VERSION:2.0
PRODID:-//ChamberMaster//Event Calendar 2.0//EN
METHOD:PUBLISH
X-PUBLISHED-TTL:P3D
REFRESH-INTERVAL:P3D
CALSCALE:GREGORIAN
BEGIN:VEVENT
DTSTART:20070226T120000Z
DTEND:20070226T120000Z
X-MICROSOFT-CDO-ALLDAYEVENT:FALSE
SUMMARY:Hendricks County Legislative Breakfast
DESCRIPTION:
X-ALT-DESC;FMTTYPE=text/html:
LOCATION:Please RSVP by thursday before each breakfast
UID:e.2778.418
SEQUENCE:3
DTSTAMP:20260424T030034Z
URL:https://www.brownsburg.com/events/details/hendricks-county-legislative-breakfast-02-26-2007-418
END:VEVENT

END:VCALENDAR
