BEGIN:VCALENDAR
VERSION:2.0
PRODID:-//ChamberMaster//Event Calendar 2.0//EN
METHOD:PUBLISH
X-PUBLISHED-TTL:P3D
REFRESH-INTERVAL:P3D
CALSCALE:GREGORIAN
BEGIN:VEVENT
DTSTART:20070326T110000Z
DTEND:20070326T110000Z
X-MICROSOFT-CDO-ALLDAYEVENT:FALSE
SUMMARY:Hendricks County Legislative Breakfast
DESCRIPTION:
X-ALT-DESC;FMTTYPE=text/html:
LOCATION:Please RSVP before thursday of each breakfast
UID:e.2778.419
SEQUENCE:3
DTSTAMP:20260424T013013Z
URL:https://www.brownsburg.com/events/details/hendricks-county-legislative-breakfast-03-26-2007-419
END:VEVENT

END:VCALENDAR
