BEGIN:VCALENDAR
VERSION:2.0
PRODID:-//ChamberMaster//Event Calendar 2.0//EN
METHOD:PUBLISH
X-PUBLISHED-TTL:P3D
REFRESH-INTERVAL:P3D
CALSCALE:GREGORIAN
BEGIN:VEVENT
DTSTART:20080226T233000Z
DTEND:20080226T233000Z
X-MICROSOFT-CDO-ALLDAYEVENT:FALSE
SUMMARY:Hendricks County Professional Business Women
DESCRIPTION:Phillipp Powell\, Chairman of the MBA program at IUPUI\, will present a program on how to obtain an accelerated Masters degree.  RSVP with dinner reservations by Friday\, February 22 to 745-5159.
X-ALT-DESC;FMTTYPE=text/html:Phillipp Powell\, Chairman of the MBA program at IUPUI\, will present a program on how to obtain an accelerated Masters degree.  RSVP with dinner reservations by Friday\, February 22 to 745-5159.
LOCATION:Meeting at Danville Friends Church
UID:e.2778.522
SEQUENCE:3
DTSTAMP:20260423T095302Z
URL:https://www.brownsburg.com/events/details/hendricks-county-professional-business-women-02-26-2008-522
END:VEVENT

END:VCALENDAR
