BEGIN:VCALENDAR
VERSION:2.0
PRODID:-//ChamberMaster//Event Calendar 2.0//EN
METHOD:PUBLISH
X-PUBLISHED-TTL:P3D
REFRESH-INTERVAL:P3D
CALSCALE:GREGORIAN
BEGIN:VEVENT
DTSTART:20080122T233000Z
DTEND:20080122T233000Z
X-MICROSOFT-CDO-ALLDAYEVENT:FALSE
SUMMARY:Hendricks County Professional Business Women Association
DESCRIPTION:
X-ALT-DESC;FMTTYPE=text/html:
LOCATION:The Hendricks County Professional Business Women Association invites you to a dinner featuring Rick Commeville with Farm Bureau Insurance to discuss your legal rights in dealing with car accidents and the insurances involved. Dinner reservations ($12) need to be made no later than Friday\, January 18 at 745-5159.
UID:e.2778.511
SEQUENCE:3
DTSTAMP:20260423T110420Z
URL:https://www.brownsburg.com/events/details/hendricks-county-professional-business-women-association-01-22-2008-511
END:VEVENT

END:VCALENDAR
