BEGIN:VCALENDAR
VERSION:2.0
PRODID:-//ChamberMaster//Event Calendar 2.0//EN
METHOD:PUBLISH
X-PUBLISHED-TTL:P3D
REFRESH-INTERVAL:P3D
CALSCALE:GREGORIAN
BEGIN:VEVENT
DTSTART:20081028T223000Z
DTEND:20081028T223000Z
X-MICROSOFT-CDO-ALLDAYEVENT:FALSE
SUMMARY:Hendricks County Professional Business Women Association
DESCRIPTION:Meetings are held monthly (fourth Tuesday) with dinner for $12.  Each month has business opportunities\, networking\, guest speakers and promotion of community affairs. All professional women of Hendricks County are invited to attend. RSVP to Nacy Cockrum 409-1873 or Grace Bultemeier 501-7971
X-ALT-DESC;FMTTYPE=text/html:Meetings are held monthly (fourth Tuesday) with dinner for $12.  Each month has business opportunities\, networking\, guest speakers and promotion of community affairs. All professional women of Hendricks County are invited to attend. RSVP to Nacy Cockrum 409-1873 or Grace Bultemeier 501-7971
LOCATION:11 Hilltop Drive\, Danville\, IN 46122 Danville Friends Church Meetings with dinner are held the fourth Tuesday of the month. Guest speaker is Clara Lehman with Lehman Wealth Advisors LLC. Cost is $12
UID:e.2778.610
SEQUENCE:3
DTSTAMP:20260422T220959Z
URL:https://www.brownsburg.com/events/details/hendricks-county-professional-business-women-association-10-28-2008-610
END:VEVENT

END:VCALENDAR
