BEGIN:VCALENDAR
VERSION:2.0
PRODID:-//ChamberMaster//Event Calendar 2.0//EN
METHOD:PUBLISH
X-PUBLISHED-TTL:P3D
REFRESH-INTERVAL:P3D
CALSCALE:GREGORIAN
BEGIN:VEVENT
DTSTART:20060822T220000Z
DTEND:20060823T000000Z
X-MICROSOFT-CDO-ALLDAYEVENT:FALSE
SUMMARY:Hendricks County Professional Business Women Association 2nd Annual Fair ''Showcase of Member Businesses''
DESCRIPTION:
X-ALT-DESC;FMTTYPE=text/html:
LOCATION:Train Station\, Ellis Park\, Danville. 26 diverse businesses covering a wide range of services and products invite you to browse\, learn\, create new business contacts\, and enjoy yourself over our sumptious refreshments provided by Ivy Trace Catered Living.
UID:e.2778.315
SEQUENCE:3
DTSTAMP:20260424T114751Z
URL:https://www.brownsburg.com/events/details/hendricks-county-professional-business-women-association-2nd-annual-fair-showcase-of-member-businesses-08-22-2006-315
END:VEVENT

END:VCALENDAR
