BEGIN:VCALENDAR
VERSION:2.0
PRODID:-//ChamberMaster//Event Calendar 2.0//EN
METHOD:PUBLISH
X-PUBLISHED-TTL:P3D
REFRESH-INTERVAL:P3D
CALSCALE:GREGORIAN
BEGIN:VEVENT
DTSTART:20060425T130000Z
DTEND:20060425T180000Z
X-MICROSOFT-CDO-ALLDAYEVENT:FALSE
SUMMARY:Hendricks County Senior Expo
DESCRIPTION:The second annual Hendricks County Senior Expo will include local vendors\, local entertainment\, antique appraisals\, health screenings\, prizes and much more.  This is for active seniors who want to learn more about what products and services are available to them in Hendricks County.\n\nFor more information contact Lauren Schlenk at (317) 472-5236.
X-ALT-DESC;FMTTYPE=text/html:The second annual Hendricks County Senior Expo will include local vendors\, local entertainment\, antique appraisals\, health screenings\, prizes and much more.  This is for active seniors who want to learn more about what products and services are available to them in Hendricks County.\n\nFor more information contact Lauren Schlenk at (317) 472-5236.
LOCATION:Hendricks County Fairgrounds\; Danville. This is for active seniors who want to learn more about what products and services are available to them in Hendricks County.
UID:e.2778.88
SEQUENCE:3
DTSTAMP:20260424T173228Z
URL:https://www.brownsburg.com/events/details/hendricks-county-senior-expo-04-25-2006-88
END:VEVENT

END:VCALENDAR
