BEGIN:VCALENDAR
VERSION:2.0
PRODID:-//ChamberMaster//Event Calendar 2.0//EN
METHOD:PUBLISH
X-PUBLISHED-TTL:P3D
REFRESH-INTERVAL:P3D
CALSCALE:GREGORIAN
BEGIN:VEVENT
DTSTART:20060624T130000Z
DTEND:20060624T130000Z
X-MICROSOFT-CDO-ALLDAYEVENT:FALSE
SUMMARY:Hendricks County Senior Services 1st Annual 5K Prime Time Walk
DESCRIPTION:Hendricks County Senior Services and Hendricks Regional Health will sponsor the first annual 5K Prime Time Walk on Saturday\, June 24th.  The walk is a fundraiser for Hendricks County Senior Services and will be held at the Plainfield Recreation and Aquatic Center located at 751 Vestal Road in Plainfield.  Registration begins at 7:30a.m. with the walk to begin at 9:00a.m.  Registration forms are available at the Brownsburg Chamber of Commerce or you may contact Hendricks County Senior Services at 745-4303 for additional information.
X-ALT-DESC;FMTTYPE=text/html:Hendricks County Senior Services and Hendricks Regional Health will sponsor the first annual 5K Prime Time Walk on Saturday\, June 24th.  The walk is a fundraiser for Hendricks County Senior Services and will be held at the Plainfield Recreation and Aquatic Center located at 751 Vestal Road in Plainfield.  Registration begins at 7:30a.m. with the walk to begin at 9:00a.m.  Registration forms are available at the Brownsburg Chamber of Commerce or you may contact Hendricks County Senior Services at 745-4303 for additional information.
LOCATION:751 Vestal Road\, Plainfield\, IN 46168 For more information contact Beth Ann Leach at 745-4303 or hcss@indy.net
UID:e.2778.171
SEQUENCE:3
DTSTAMP:20260424T142739Z
URL:https://www.brownsburg.com/events/details/hendricks-county-senior-services-1st-annual-5k-prime-time-walk-06-24-2006-171
END:VEVENT

END:VCALENDAR
