BEGIN:VCALENDAR
VERSION:2.0
PRODID:-//ChamberMaster//Event Calendar 2.0//EN
METHOD:PUBLISH
X-PUBLISHED-TTL:P3D
REFRESH-INTERVAL:P3D
CALSCALE:GREGORIAN
BEGIN:VEVENT
DTSTART:20081129T210000Z
DTEND:20081130T010000Z
X-MICROSOFT-CDO-ALLDAYEVENT:FALSE
SUMMARY:Hendricks County Voiture 1390 - Spaghetti Dinner
DESCRIPTION:
X-ALT-DESC;FMTTYPE=text/html:
LOCATION:American Legion Post\; 636 E Main St\, Brownsburg. Ticket prices are as follows: Seniors $6.00\, Adults $7.00\, Children $4.00 and under 3 years old are free. Tickets are $1.00 more at the door.
UID:e.2778.598
SEQUENCE:3
DTSTAMP:20260422T215854Z
URL:https://www.brownsburg.com/events/details/hendricks-county-voiture-1390-spaghetti-dinner-11-29-2008-598
END:VEVENT

END:VCALENDAR
