BEGIN:VCALENDAR
VERSION:2.0
PRODID:-//ChamberMaster//Event Calendar 2.0//EN
METHOD:PUBLISH
X-PUBLISHED-TTL:P3D
REFRESH-INTERVAL:P3D
CALSCALE:GREGORIAN
BEGIN:VEVENT
DTSTART:20071201T003000Z
DTEND:20071201T003000Z
X-MICROSOFT-CDO-ALLDAYEVENT:FALSE
SUMMARY:Hendricks Symphony Orchestra and Hendricks Symphonic Choir
DESCRIPTION:
X-ALT-DESC;FMTTYPE=text/html:
LOCATION:For Tickey information go to www.HendricksSymphonic.com
UID:e.2778.489
SEQUENCE:3
DTSTAMP:20260423T134736Z
URL:https://www.brownsburg.com/events/details/hendricks-symphony-orchestra-and-hendricks-symphonic-choir-11-30-2007-489
END:VEVENT

END:VCALENDAR
