BEGIN:VCALENDAR
VERSION:2.0
PRODID:-//ChamberMaster//Event Calendar 2.0//EN
METHOD:PUBLISH
X-PUBLISHED-TTL:P3D
REFRESH-INTERVAL:P3D
CALSCALE:GREGORIAN
BEGIN:VEVENT
DTSTART:20081115T140000Z
DTEND:20081115T200000Z
X-MICROSOFT-CDO-ALLDAYEVENT:FALSE
SUMMARY:Holiday Craft Show & More!
DESCRIPTION:Come and do your Holiday Shopping or get a special gift for that special someone.\nFood available for purchase from Chick-Fil-A (AVON)
X-ALT-DESC;FMTTYPE=text/html:Come and do your Holiday Shopping or get a special gift for that special someone.\nFood available for purchase from Chick-Fil-A (AVON)
LOCATION:8109 Kingston Street\, Ste. 500\, Avon\, IN 46123 Hendricks County Fairgrounds in the Hendricks Power Exposition Hall at 1900 E Main St\, Danville. Tickets $2.00 at the door.
UID:e.2778.621
SEQUENCE:3
DTSTAMP:20260422T215930Z
URL:https://www.brownsburg.com/events/details/holiday-craft-show-more-11-15-2008-621
END:VEVENT

END:VCALENDAR
