BEGIN:VCALENDAR
VERSION:2.0
PRODID:-//ChamberMaster//Event Calendar 2.0//EN
METHOD:PUBLISH
X-PUBLISHED-TTL:P3D
REFRESH-INTERVAL:P3D
CALSCALE:GREGORIAN
BEGIN:VEVENT
DTSTART:20081017T200000Z
DTEND:20081018T000000Z
X-MICROSOFT-CDO-ALLDAYEVENT:FALSE
SUMMARY:HolisticTherapeutics Open House
DESCRIPTION:Open House~Come see the new decor\, receive a hand massage and enjoy light hors d'oeuvres & wine
X-ALT-DESC;FMTTYPE=text/html:Open House~Come see the new decor\, receive a hand massage and enjoy light hors d'oeuvres & wine
LOCATION:24 N Grant St.\, Brownsburg\, IN 46112
UID:e.2778.605
SEQUENCE:3
DTSTAMP:20260422T220530Z
URL:https://www.brownsburg.com/events/details/holistictherapeutics-open-house-10-17-2008-605
END:VEVENT

END:VCALENDAR
