BEGIN:VCALENDAR
VERSION:2.0
PRODID:-//ChamberMaster//Event Calendar 2.0//EN
METHOD:PUBLISH
X-PUBLISHED-TTL:P3D
REFRESH-INTERVAL:P3D
CALSCALE:GREGORIAN
BEGIN:VEVENT
DTSTART:20061007T130000Z
DTEND:20061007T180000Z
X-MICROSOFT-CDO-ALLDAYEVENT:FALSE
SUMMARY:Home Party Show at Rec Center
DESCRIPTION:The Brownsburg Community and Recreation Center\, located at 111 Eastern Avenue\, will be hosting a Home Party Show on Saturday\, October 7\, from 9:00 a.m. to 2:00 p.m.\n\nThis show will consist of local Home Party vendors that will provide products\, catalogs\, samples\, etc.\, for customers to purchase\, order\, or to help them decide which home party they may like to host in their home.\n\nVendor booth space(s) are 10' x 10' and rent for $15.00 each\, or $20.00 with electric.  Booths with electricity are very limited and all booths will be filled on a first come\, first served basis.\n\nVendors that would like to participate should contact the Brownsburg Community and Recreation Center at 852-0595 for more information.
X-ALT-DESC;FMTTYPE=text/html:The Brownsburg Community and Recreation Center\, located at 111 Eastern Avenue\, will be hosting a Home Party Show on Saturday\, October 7\, from 9:00 a.m. to 2:00 p.m.\n\nThis show will consist of local Home Party vendors that will provide products\, catalogs\, samples\, etc.\, for customers to purchase\, order\, or to help them decide which home party they may like to host in their home.\n\nVendor booth space(s) are 10' x 10' and rent for $15.00 each\, or $20.00 with electric.  Booths with electricity are very limited and all booths will be filled on a first come\, first served basis.\n\nVendors that would like to participate should contact the Brownsburg Community and Recreation Center at 852-0595 for more information.\n
LOCATION:111 Eastern Avenue\, Brownsburg\, IN 46112 111 Eastern Ave. This show will consist of local Home Party vendors that will provide products\, catalogs\, samples\, etc.\, for customers to purchase\, order\, or to help them decide which home party they may like to host in their home. Vendors that would like to participate should contact the Brownsburg Community and Recreation Center at 852-0595 for more information.
UID:e.2778.288
SEQUENCE:3
DTSTAMP:20260424T102755Z
URL:https://www.brownsburg.com/events/details/home-party-show-at-rec-center-10-07-2006-288
END:VEVENT

END:VCALENDAR
