BEGIN:VCALENDAR
VERSION:2.0
PRODID:-//ChamberMaster//Event Calendar 2.0//EN
METHOD:PUBLISH
X-PUBLISHED-TTL:P3D
REFRESH-INTERVAL:P3D
CALSCALE:GREGORIAN
BEGIN:VEVENT
DTSTART:20071101T220000Z
DTEND:20071101T220000Z
X-MICROSOFT-CDO-ALLDAYEVENT:FALSE
SUMMARY:Homebuyer Workshop
DESCRIPTION:
X-ALT-DESC;FMTTYPE=text/html:
LOCATION:301 Northfield Drive\, Brownsburg\, In 46112 The Carpenter Realtors Brownsburg office located at 301 Northfield Drive Marlene Bradley at 852-4091 for a reservation.
UID:e.2778.492
SEQUENCE:3
DTSTAMP:20260423T134544Z
URL:https://www.brownsburg.com/events/details/homebuyer-workshop-11-01-2007-492
END:VEVENT

END:VCALENDAR
