BEGIN:VCALENDAR
VERSION:2.0
PRODID:-//ChamberMaster//Event Calendar 2.0//EN
METHOD:PUBLISH
X-PUBLISHED-TTL:P3D
REFRESH-INTERVAL:P3D
CALSCALE:GREGORIAN
BEGIN:VEVENT
DTSTART:20080207T230000Z
DTEND:20080208T020000Z
X-MICROSOFT-CDO-ALLDAYEVENT:FALSE
SUMMARY:HRH - Heart Healty Program
DESCRIPTION:FREE HEALTH EVENT \nJoe Piscatella - Eating Healthy in a Doubleburger.com World \nThursday\, February 7\, 6 – 8:30 p.m. \nPrimo Banquet Hall\, Plainfield \nEating Healthy in a Doubleburger.com World will give a blueprint for achieving lean\, balanced eating in the real world from this best-selling author. Attendees will learn to calculate a personal fat budget\, order healthily in a restaurant\, read food labels\, lighten up favorite family recipes and exercise in order to be healthier. Cited in TIME magazine for effectiveness\, this program will help you create and maintain a balanced diet\, once and for all. \nSpace is limited for this free event\, pre-registration is requested at hendricksregional.org/Joe or call (317) 718-6232.
X-ALT-DESC;FMTTYPE=text/html:FREE HEALTH EVENT \nJoe Piscatella - Eating Healthy in a Doubleburger.com World \nThursday\, February 7\, 6 – 8:30 p.m. \nPrimo Banquet Hall\, Plainfield \nEating Healthy in a Doubleburger.com World will give a blueprint for achieving lean\, balanced eating in the real world from this best-selling author. Attendees will learn to calculate a personal fat budget\, order healthily in a restaurant\, read food labels\, lighten up favorite family recipes and exercise in order to be healthier. Cited in TIME magazine for effectiveness\, this program will help you create and maintain a balanced diet\, once and for all. \nSpace is limited for this free event\, pre-registration is requested at hendricksregional.org/Joe or call (317) 718-6232. \n\n
LOCATION:FREE HEALTH EVENT
UID:e.2778.519
SEQUENCE:3
DTSTAMP:20260423T094854Z
URL:https://www.brownsburg.com/events/details/hrh-heart-healty-program-02-07-2008-519
END:VEVENT

END:VCALENDAR
