BEGIN:VCALENDAR
VERSION:2.0
PRODID:-//ChamberMaster//Event Calendar 2.0//EN
METHOD:PUBLISH
X-PUBLISHED-TTL:P3D
REFRESH-INTERVAL:P3D
CALSCALE:GREGORIAN
BEGIN:VEVENT
DTSTART:20081019T190000Z
DTEND:20081019T190000Z
X-MICROSOFT-CDO-ALLDAYEVENT:FALSE
SUMMARY:Hymns and Anthems - Hendricks Symphonic Society
DESCRIPTION:
X-ALT-DESC;FMTTYPE=text/html:
LOCATION:7199 E. US Hwy 36\, Avon\, IN 46123 At Avon Middle School. Tickets available at the door\; season tickets available online at www.HendricksSymphonic.com.
UID:e.2778.587
SEQUENCE:3
DTSTAMP:20260422T220718Z
URL:https://www.brownsburg.com/events/details/hymns-and-anthems-hendricks-symphonic-society-10-19-2008-587
END:VEVENT

END:VCALENDAR
