BEGIN:VCALENDAR
VERSION:2.0
PRODID:-//ChamberMaster//Event Calendar 2.0//EN
METHOD:PUBLISH
X-PUBLISHED-TTL:P3D
REFRESH-INTERVAL:P3D
CALSCALE:GREGORIAN
BEGIN:VEVENT
DTSTART:20061005T160000Z
DTEND:20061005T230000Z
X-MICROSOFT-CDO-ALLDAYEVENT:FALSE
SUMMARY:''I Want to Volunteer'' Fair
DESCRIPTION:Any amount of time you have to volunteer is valuable time!  Can you stuff envelopes?  Can you help plan special events?  Can you answer a phone?  Interact with nonprofit organzations who serve the citizens of Hendricks County and surrounding communities.  These organisations are looking for community-minded volunteers to help.  \n\nOrganizations wishing to have a booth should contact Amy Nickol at 317-745-9265 ext. 2 or email her at alnickol@purdue.edu.
X-ALT-DESC;FMTTYPE=text/html:Any amount of time you have to volunteer is valuable time!  Can you stuff envelopes?  Can you help plan special events?  Can you answer a phone?  Interact with nonprofit organzations who serve the citizens of Hendricks County and surrounding communities.  These organisations are looking for community-minded volunteers to help.  \n\nOrganizations wishing to have a booth should contact Amy Nickol at 317-745-9265 ext. 2 or email her at alnickol@purdue.edu.
LOCATION:1900 East Main Street\, Danville\, IN 46122 at the Hendricks County 4-H Conference Center\; 1900 East Main Street\, Danville. Do you want to help people in your community? Find out what opportunities are available at this free event.
UID:e.2778.297
SEQUENCE:3
DTSTAMP:20260424T085206Z
URL:https://www.brownsburg.com/events/details/i-want-to-volunteer-fair-10-05-2006-297
END:VEVENT

END:VCALENDAR
