BEGIN:VCALENDAR
VERSION:2.0
PRODID:-//ChamberMaster//Event Calendar 2.0//EN
METHOD:PUBLISH
X-PUBLISHED-TTL:P3D
REFRESH-INTERVAL:P3D
CALSCALE:GREGORIAN
BEGIN:VEVENT
DTSTART;VALUE=DATE:20061209
DTEND;VALUE=DATE:20061211
TRANSP:TRANSPARENT
X-MICROSOFT-CDO-ALLDAYEVENT:TRUE
SUMMARY:Imagination Library Fundraiser
DESCRIPTION:On Sat Dec 9 Chris Wright from Channel 13 will be a story reader.  Dianne Murer\, Coordinator from Youth as Resources is going to ask a group of youth who are doing a YAR grant with science --to be at the event on Dec 9 at 1:00 p.m. to explain their project.  Sunday Dec 10\,  all the highschool quarterbacks and school mascots and possibly cheerleaders from the 6 school corporations will be readers to kids from 1:00 p.to 3:00 p.m.  Gift wrapping will also be available on Sunday with a donation to the Imagination Library project.
X-ALT-DESC;FMTTYPE=text/html:On Sat Dec 9 Chris Wright from Channel 13 will be a story reader.  Dianne Murer\, Coordinator from Youth as Resources is going to ask a group of youth who are doing a YAR grant with science --to be at the event on Dec 9 at 1:00 p.m. to explain their project.  Sunday Dec 10\,  all the highschool quarterbacks and school mascots and possibly cheerleaders from the 6 school corporations will be readers to kids from 1:00 p.to 3:00 p.m.  Gift wrapping will also be available on Sunday with a donation to the Imagination Library project.
LOCATION:2540 Futura Pkwy. #135\, Plainfield\, IN 46168 at the Metropolis Barnes & Noble store. Proceeds benefit the Hendricks County Imagination Library project which currently provides 1235 under privileged children with books. A voucher is needed and can be obtained through your local library or by contacting the Brownsburg Public Library at 852-3167.
UID:e.2778.369
SEQUENCE:3
DTSTAMP:20260424T054344Z
URL:https://www.brownsburg.com/events/details/imagination-library-fundraiser-12-09-2006-369
END:VEVENT

END:VCALENDAR
