BEGIN:VCALENDAR
VERSION:2.0
PRODID:-//ChamberMaster//Event Calendar 2.0//EN
METHOD:PUBLISH
X-PUBLISHED-TTL:P3D
REFRESH-INTERVAL:P3D
CALSCALE:GREGORIAN
BEGIN:VEVENT
DTSTART:20080912T150000Z
DTEND:20080912T150000Z
X-MICROSOFT-CDO-ALLDAYEVENT:FALSE
SUMMARY:Indianapolis Institute for Families Charity Golf Outing
DESCRIPTION:
X-ALT-DESC;FMTTYPE=text/html:
LOCATION:4 Hollaway Boulevard\, Brownsburg\, IN 46112 Contact Emily Perry at 381-0355 or eperry@indplsinstitute.com for more information.
UID:e.2778.574
SEQUENCE:3
DTSTAMP:20260422T234218Z
URL:https://www.brownsburg.com/events/details/indianapolis-institute-for-families-charity-golf-outing-09-12-2008-574
END:VEVENT

END:VCALENDAR
